BEGIN:VCALENDAR
VERSION:2.0
PRODID:-//e5 Steiermark - ECPv6.15.20//NONSGML v1.0//EN
CALSCALE:GREGORIAN
METHOD:PUBLISH
X-WR-CALNAME:e5 Steiermark
X-ORIGINAL-URL:https://e5-steiermark.at
X-WR-CALDESC:Veranstaltungen für e5 Steiermark
REFRESH-INTERVAL;VALUE=DURATION:PT1H
X-Robots-Tag:noindex
X-PUBLISHED-TTL:PT1H
BEGIN:VTIMEZONE
TZID:Europe/Vienna
BEGIN:DAYLIGHT
TZOFFSETFROM:+0100
TZOFFSETTO:+0200
TZNAME:CEST
DTSTART:20230326T010000
END:DAYLIGHT
BEGIN:STANDARD
TZOFFSETFROM:+0200
TZOFFSETTO:+0100
TZNAME:CET
DTSTART:20231029T010000
END:STANDARD
BEGIN:DAYLIGHT
TZOFFSETFROM:+0100
TZOFFSETTO:+0200
TZNAME:CEST
DTSTART:20240331T010000
END:DAYLIGHT
BEGIN:STANDARD
TZOFFSETFROM:+0200
TZOFFSETTO:+0100
TZNAME:CET
DTSTART:20241027T010000
END:STANDARD
BEGIN:DAYLIGHT
TZOFFSETFROM:+0100
TZOFFSETTO:+0200
TZNAME:CEST
DTSTART:20250330T010000
END:DAYLIGHT
BEGIN:STANDARD
TZOFFSETFROM:+0200
TZOFFSETTO:+0100
TZNAME:CET
DTSTART:20251026T010000
END:STANDARD
END:VTIMEZONE
BEGIN:VEVENT
DTSTART;TZID=Europe/Vienna:20240917T120000
DTEND;TZID=Europe/Vienna:20240917T153000
DTSTAMP:20260421T123306
CREATED:20240914T171331Z
LAST-MODIFIED:20240914T194611Z
UID:4008-1726574400-1726587000@e5-steiermark.at
SUMMARY:e5 ERFA & Moor-Exkursion
DESCRIPTION:Wir laden euch sehr herzlich zum e5-Erfahrungsaustausch 2024 in Bad Mitterndorf ein und freuen uns\, mit euch gemeinsam einen spannenden Tag zu verbringen. Neben Neuigkeiten aus dem e5-Programm\, Informationen zur EEDIII-Richtlinie und einem Einblick in das Umweltzeichen für Regionen gibt es auch heuer wieder spannende Praxisberichte zu laufenden Projekten ausgewählter e5-Gemeinden. \nSo berichtet Bad Mitterndorf über das in der Gemeinde inzwischen gut etablierte Jobrad\, Lebring-St. Margarethen teilt Erfahrungen zu ihrer Erneuerbaren Energiegemeinschaft und aus Judenburg hören wir einen Bericht zur kommunalen Wärmeplanung in der Gemeinde. \nOptional: Exkursion zum Rödschitzmoor am Vormittag\nFür unsere ERFA-Teilnehmer:innen bieten wir heuer die Möglichkeit\, schon früher anzureisen und vor dem eigentlichen Erfahrungsaustausch an einer Exkursion zum Rödschitzmoor teilzunehmen. e5-Teammitglied und Moorexpertin Karin Hochegger wird uns dabei Einblicke in die Bedeutung von Mooren für den Klimaschutz geben.\nTreffpunkt: Bahnhof Bad Mitterndorf-Heilbrunn (Abfahrt mit dem Taxibus um 10:15 Uhr).
URL:https://e5-steiermark.at/eagevent/e5-erfahrungsaustauschtreffen-moor-exkursion/
LOCATION:Woferlstall\, Kurpark 1\, 8983 Bad Mitterndorf\, Kurpark 1\, Bad Mitterndorf\, Steiermark\, 8983\, Österreich
CATEGORIES:Veranstaltungen
ATTACH;FMTTYPE=image/jpeg:https://e5-steiermark.at/wp-content/uploads/2021/11/P1056008-scaled.jpg
END:VEVENT
END:VCALENDAR